BEGIN:VCALENDAR
VERSION:2.0
PRODID:-//https://www.ferienwohnungen-leogang.at//NONSGML kigkonsult.se iCa
 lcreator 2.29.29//
CALSCALE:GREGORIAN
METHOD:PUBLISH
UID:4f9011d2-760e-4d47-b1a2-bd20485ad37a
X-WR-CALNAME:JCal Pro Kalender
X-WR-CALDESC:Ihr Online-Terminkalender
X-WR-TIMEZONE:UTC
BEGIN:VTIMEZONE
TZID:UTC
END:VTIMEZONE
BEGIN:VEVENT
UID:20260830T140000UTC-1866M2LsDB@https://www.ferienwohnungen-leogang.at/
DTSTAMP:20260426T010409Z
CATEGORIES:Ferienwohnung 3
DTSTART:20260830T140000Z
DTEND:20260910T151700Z
SUMMARY:Schrei.
URL:https://www.ferienwohnungen-leogang.at/component/jcalpro/9-uncategorise
 d/243-schrei
END:VEVENT
END:VCALENDAR
