BEGIN:VCALENDAR
VERSION:2.0
PRODID:-//https://www.ferienwohnungen-leogang.at//NONSGML kigkonsult.se iCa
 lcreator 2.29.29//
CALSCALE:GREGORIAN
METHOD:PUBLISH
UID:8b15bd39-6673-4632-9cf0-8bc1a9826434
X-WR-CALNAME:JCal Pro Kalender
X-WR-CALDESC:Ihr Online-Terminkalender
X-WR-TIMEZONE:UTC
BEGIN:VTIMEZONE
TZID:UTC
END:VTIMEZONE
BEGIN:VEVENT
UID:20260817T070000UTC-1681jlMhVr@https://www.ferienwohnungen-leogang.at/
DTSTAMP:20260424T194240Z
CATEGORIES:Ferienwohnung 3
DTSTART:20260817T070000Z
DTEND:20260826T084800Z
SUMMARY:Mei.
URL:https://www.ferienwohnungen-leogang.at/component/jcalpro/9-uncategorise
 d/255-mei
END:VEVENT
BEGIN:VEVENT
UID:20260822T130000UTC-7368J25ujl@https://www.ferienwohnungen-leogang.at/
DTSTAMP:20260424T194240Z
CATEGORIES:Ferienwohnung 1
DTSTART:20260822T130000Z
DTEND:20260905T140500Z
SUMMARY:M.K.
URL:https://www.ferienwohnungen-leogang.at/component/jcalpro/10-ferienwohnu
 ng-1/217-m-k
END:VEVENT
END:VCALENDAR
