BEGIN:VCALENDAR
VERSION:2.0
PRODID:-//https://www.ferienwohnungen-leogang.at//NONSGML kigkonsult.se iCa
 lcreator 2.29.29//
CALSCALE:GREGORIAN
METHOD:PUBLISH
UID:61cfc3b2-712c-4f8b-9b05-04ae5a18e677
X-WR-CALNAME:JCal Pro Kalender
X-WR-CALDESC:Ihr Online-Terminkalender
X-WR-TIMEZONE:UTC
BEGIN:VTIMEZONE
TZID:UTC
END:VTIMEZONE
BEGIN:VEVENT
UID:20260716T120000UTC-4094hsJ3Bg@https://www.ferienwohnungen-leogang.at/
DTSTAMP:20260421T014905Z
CATEGORIES:Ferienwohnung 1
DTSTART:20260716T120000Z
DTEND:20260725T132700Z
SUMMARY:B.
URL:https://www.ferienwohnungen-leogang.at/component/jcalpro/10-ferienwohnu
 ng-1/221-b
END:VEVENT
BEGIN:VEVENT
UID:20260724T140000UTC-3602JukUmv@https://www.ferienwohnungen-leogang.at/
DTSTAMP:20260421T014905Z
CATEGORIES:Ferienwohnung 3
DTSTART:20260724T140000Z
DTEND:20260805T151600Z
SUMMARY:Schön.
URL:https://www.ferienwohnungen-leogang.at/component/jcalpro/9-uncategorise
 d/242-schoen
END:VEVENT
END:VCALENDAR
