BEGIN:VCALENDAR
VERSION:2.0
PRODID:-//https://www.ferienwohnungen-leogang.at//NONSGML kigkonsult.se iCa
 lcreator 2.29.29//
CALSCALE:GREGORIAN
METHOD:PUBLISH
UID:1443d43c-5a83-4a81-b577-09edadb23c7c
X-WR-CALNAME:JCal Pro Kalender
X-WR-CALDESC:Ihr Online-Terminkalender
X-WR-TIMEZONE:UTC
BEGIN:VTIMEZONE
TZID:UTC
END:VTIMEZONE
BEGIN:VEVENT
UID:20260704T140000UTC-6150l18X1M@https://www.ferienwohnungen-leogang.at/
DTSTAMP:20260420T000537Z
CATEGORIES:Ferienwohnung 3
DTSTART:20260704T140000Z
DTEND:20260711T151500Z
SUMMARY:Wersch.
URL:https://www.ferienwohnungen-leogang.at/component/jcalpro/9-uncategorise
 d/241-wersch
END:VEVENT
BEGIN:VEVENT
UID:20260707T090000UTC-4573uprJjf@https://www.ferienwohnungen-leogang.at/
DTSTAMP:20260420T000537Z
CATEGORIES:Ferienwohnung 1
DTSTART:20260707T090000Z
DTEND:20260716T101400Z
SUMMARY:Hö.
URL:https://www.ferienwohnungen-leogang.at/component/jcalpro/10-ferienwohnu
 ng-1/222-hoe
END:VEVENT
END:VCALENDAR
