BEGIN:VCALENDAR
VERSION:2.0
PRODID:-//https://www.ferienwohnungen-leogang.at//NONSGML kigkonsult.se iCa
 lcreator 2.29.29//
CALSCALE:GREGORIAN
METHOD:PUBLISH
UID:7c42a281-da7b-4e4b-99ad-0a922fa53d59
X-WR-CALNAME:JCal Pro Kalender
X-WR-CALDESC:Ihr Online-Terminkalender
X-WR-TIMEZONE:UTC
BEGIN:VTIMEZONE
TZID:UTC
END:VTIMEZONE
BEGIN:VEVENT
UID:20260809T140000UTC-5442jOLgZe@https://www.ferienwohnungen-leogang.at/
DTSTAMP:20260423T123752Z
CATEGORIES:Ferienwohnung 1
DTSTART:20260809T140000Z
DTEND:20260819T152000Z
SUMMARY:Zwart.
URL:https://www.ferienwohnungen-leogang.at/component/jcalpro/10-ferienwohnu
 ng-1/245-zwart
END:VEVENT
BEGIN:VEVENT
UID:20260809T140000UTC-3079ZI2nuj@https://www.ferienwohnungen-leogang.at/
DTSTAMP:20260423T123752Z
CATEGORIES:Ferienwohnung 3
DTSTART:20260809T140000Z
DTEND:20260816T151700Z
SUMMARY:Kolb
URL:https://www.ferienwohnungen-leogang.at/component/jcalpro/9-uncategorise
 d/253-kolb
END:VEVENT
END:VCALENDAR
