BEGIN:VCALENDAR
VERSION:2.0
PRODID:-//https://www.ferienwohnungen-leogang.at//NONSGML kigkonsult.se iCa
 lcreator 2.29.29//
CALSCALE:GREGORIAN
METHOD:PUBLISH
UID:f12a33d8-cf03-4069-883a-d3b492dd2306
X-WR-CALNAME:JCal Pro Kalender
X-WR-CALDESC:Ihr Online-Terminkalender
X-WR-TIMEZONE:UTC
BEGIN:VTIMEZONE
TZID:UTC
END:VTIMEZONE
BEGIN:VEVENT
UID:20260728T140000UTC-9149SfljN1@https://www.ferienwohnungen-leogang.at/
DTSTAMP:20260423T125728Z
CATEGORIES:Ferienwohnung 1
DTSTART:20260728T140000Z
DTEND:20260808T151800Z
SUMMARY:Ickl.
URL:https://www.ferienwohnungen-leogang.at/component/jcalpro/10-ferienwohnu
 ng-1/244-ickl
END:VEVENT
END:VCALENDAR
